BEGIN:VCALENDAR
VERSION:2.0
PRODID:-//wp-events-plugin.com//7.2.3.1//EN
BEGIN:VEVENT
UID:1@chesterfield.in.gov
DTSTART:20250819T233000Z
DTEND:20250819T233000Z
DTSTAMP:20250805T220429Z
URL:https://chesterfield.in.gov/events/town-council-meeting/
SUMMARY:Town Council Meeting
DESCRIPTION:
LOCATION:Millcreek Civic Center\, Memorial Hall\, 403 W. Main Street\, Ches
 terfield\, IN\, 46017\, United States
X-APPLE-STRUCTURED-LOCATION;VALUE=URI;X-ADDRESS=403 W. Main Street\, Cheste
 rfield\, IN\, 46017\, United States;X-APPLE-RADIUS=100;X-TITLE=Millcreek C
 ivic Center\, Memorial Hall:geo:0,0
END:VEVENT
END:VCALENDAR